BEGIN:VCALENDAR
VERSION:2.0
PRODID:-//Hoender en Hop - ECPv6.15.16//NONSGML v1.0//EN
CALSCALE:GREGORIAN
METHOD:PUBLISH
X-WR-CALNAME:Hoender en Hop
X-ORIGINAL-URL:https://hoenderenhop.nl
X-WR-CALDESC:Evenementen voor Hoender en Hop
REFRESH-INTERVAL;VALUE=DURATION:PT1H
X-Robots-Tag:noindex
X-PUBLISHED-TTL:PT1H
BEGIN:VTIMEZONE
TZID:Europe/Amsterdam
BEGIN:DAYLIGHT
TZOFFSETFROM:+0100
TZOFFSETTO:+0200
TZNAME:CEST
DTSTART:20250330T010000
END:DAYLIGHT
BEGIN:STANDARD
TZOFFSETFROM:+0200
TZOFFSETTO:+0100
TZNAME:CET
DTSTART:20251026T010000
END:STANDARD
BEGIN:DAYLIGHT
TZOFFSETFROM:+0100
TZOFFSETTO:+0200
TZNAME:CEST
DTSTART:20260329T010000
END:DAYLIGHT
BEGIN:STANDARD
TZOFFSETFROM:+0200
TZOFFSETTO:+0100
TZNAME:CET
DTSTART:20261025T010000
END:STANDARD
BEGIN:DAYLIGHT
TZOFFSETFROM:+0100
TZOFFSETTO:+0200
TZNAME:CEST
DTSTART:20270328T010000
END:DAYLIGHT
BEGIN:STANDARD
TZOFFSETFROM:+0200
TZOFFSETTO:+0100
TZNAME:CET
DTSTART:20271031T010000
END:STANDARD
END:VTIMEZONE
BEGIN:VEVENT
DTSTART;TZID=Europe/Amsterdam:20260428T210000
DTEND;TZID=Europe/Amsterdam:20260428T230000
DTSTAMP:20260421T144906
CREATED:20260313T125702Z
LAST-MODIFIED:20260420T154717Z
UID:10000088-1777410000-1777417200@hoenderenhop.nl
SUMMARY:Champions League Live
DESCRIPTION:Wat is er nou lekkerder dan sport kijken op groot scherm met een vers getapt biertje en bitterballen die zojuist uit het vet zijn gevist?\nJuist. Niks dus. (Tenzij je geen alcohol drinkt of vlees eet\, maar daar hebben wij ook weer oplossingen voor!)\nAlle grote sportevents op groot scherm bij de Hoender en Hop.
URL:https://hoenderenhop.nl/evenement/champions-league-live-5/
LOCATION:Hoender en hop\, Grote Markt\, Den Haag\, Zuid-Holland\, 2511 BG\, Netherlands
CATEGORIES:Sport
ATTACH;FMTTYPE=image/png:https://hoenderenhop.nl/wp-content/uploads/2025/09/Ontwerp-zonder-titel-17-zVlF6K.png
END:VEVENT
BEGIN:VEVENT
DTSTART;TZID=Europe/Amsterdam:20260429T210000
DTEND;TZID=Europe/Amsterdam:20260429T230000
DTSTAMP:20260421T144906
CREATED:20260416T153156Z
LAST-MODIFIED:20260420T154717Z
UID:10000166-1777496400-1777503600@hoenderenhop.nl
SUMMARY:Champions League Live
DESCRIPTION:Wat is er nou lekkerder dan sport kijken op groot scherm met een vers getapt biertje en bitterballen die zojuist uit het vet zijn gevist?\nJuist. Niks dus. (Tenzij je geen alcohol drinkt of vlees eet\, maar daar hebben wij ook weer oplossingen voor!)\nAlle grote sportevents op groot scherm bij de Hoender en Hop.
URL:https://hoenderenhop.nl/evenement/champions-league-live-9/
LOCATION:Hoender en hop\, Grote Markt\, Den Haag\, Zuid-Holland\, 2511 BG\, Netherlands
CATEGORIES:Sport
ATTACH;FMTTYPE=image/png:https://hoenderenhop.nl/wp-content/uploads/2025/09/Ontwerp-zonder-titel-17-zVlF6K.png
END:VEVENT
BEGIN:VEVENT
DTSTART;TZID=Europe/Amsterdam:20260503T220000
DTEND;TZID=Europe/Amsterdam:20260503T220000
DTSTAMP:20260421T144906
CREATED:20260313T125702Z
LAST-MODIFIED:20260412T143907Z
UID:10000087-1777845600-1777845600@hoenderenhop.nl
SUMMARY:Formule 1 Live
DESCRIPTION:Wat is er nou lekkerder dan sport kijken op groot scherm met een vers getapt biertje en bitterballen die zojuist uit het vet zijn gevist?\nJuist. Niks dus. (Tenzij je geen alcohol drinkt of vlees eet\, maar daar hebben wij ook weer oplossingen voor!)\nAlle grote sportevents op groot scherm bij de Hoender en Hop.
URL:https://hoenderenhop.nl/evenement/formule-1-live-3/
LOCATION:Hoender en hop\, Grote Markt\, Den Haag\, Zuid-Holland\, 2511 BG\, Netherlands
CATEGORIES:Sport
ATTACH;FMTTYPE=image/png:https://hoenderenhop.nl/wp-content/uploads/2025/09/f1-hoenderenhop-qh8tpH.png
END:VEVENT
BEGIN:VEVENT
DTSTART;TZID=Europe/Amsterdam:20260503T220000
DTEND;TZID=Europe/Amsterdam:20260503T220000
DTSTAMP:20260421T144906
CREATED:20260416T153156Z
LAST-MODIFIED:20260420T154717Z
UID:10000167-1777845600-1777845600@hoenderenhop.nl
SUMMARY:Formule 1 Live
DESCRIPTION:Wat is er nou lekkerder dan sport kijken op groot scherm met een vers getapt biertje en bitterballen die zojuist uit het vet zijn gevist?\nJuist. Niks dus. (Tenzij je geen alcohol drinkt of vlees eet\, maar daar hebben wij ook weer oplossingen voor!)\nAlle grote sportevents op groot scherm bij de Hoender en Hop.
URL:https://hoenderenhop.nl/evenement/formule-1-live-8/
LOCATION:Hoender en hop\, Grote Markt\, Den Haag\, Zuid-Holland\, 2511 BG\, Netherlands
CATEGORIES:Sport
ATTACH;FMTTYPE=image/png:https://hoenderenhop.nl/wp-content/uploads/2025/09/f1-hoenderenhop-qh8tpH.png
END:VEVENT
BEGIN:VEVENT
DTSTART;TZID=Europe/Amsterdam:20260504T200000
DTEND;TZID=Europe/Amsterdam:20260504T223000
DTSTAMP:20260421T144906
CREATED:20260203T120135Z
LAST-MODIFIED:20260420T154717Z
UID:10000071-1777924800-1777933800@hoenderenhop.nl
SUMMARY:Popquiz
DESCRIPTION:Dus jij weet alles van muziek\, Leo’tje Blokhuis?\nKom maar even laten zien dan! \nDé popquiz van de Hoender test jouw ultieme muziekkennis! \n\nElke eerste maandag van de maand\n8 muzikale rondes\nmaximaal 6 deelnemers per team\n€10\,- per team\n\nSchrijf jou en jouw team snel in via de link! \nMee-eten? Dat kan! Voor maar liefst €17\,50 p.p. kan je genieten van kip\, patat en appelmoes (of een vega burger)
URL:https://hoenderenhop.nl/evenement/popquiz-8/
LOCATION:Hoender en hop\, Grote Markt\, Den Haag\, Zuid-Holland\, 2511 BG\, Netherlands
CATEGORIES:Games
ATTACH;FMTTYPE=image/jpeg:https://hoenderenhop.nl/wp-content/uploads/2026/01/PubQuizz121823DSC00088-Enhanced-NR-46-wTJmn0.jpg
END:VEVENT
BEGIN:VEVENT
DTSTART;TZID=Europe/Amsterdam:20260505T210000
DTEND;TZID=Europe/Amsterdam:20260505T230000
DTSTAMP:20260421T144906
CREATED:20260313T125702Z
LAST-MODIFIED:20260420T154717Z
UID:10000089-1778014800-1778022000@hoenderenhop.nl
SUMMARY:Champions League Live
DESCRIPTION:Wat is er nou lekkerder dan sport kijken op groot scherm met een vers getapt biertje en bitterballen die zojuist uit het vet zijn gevist?\nJuist. Niks dus. (Tenzij je geen alcohol drinkt of vlees eet\, maar daar hebben wij ook weer oplossingen voor!)\nAlle grote sportevents op groot scherm bij de Hoender en Hop.
URL:https://hoenderenhop.nl/evenement/champions-league-live-6/
LOCATION:Hoender en hop\, Grote Markt\, Den Haag\, Zuid-Holland\, 2511 BG\, Netherlands
CATEGORIES:Sport
ATTACH;FMTTYPE=image/png:https://hoenderenhop.nl/wp-content/uploads/2025/09/Ontwerp-zonder-titel-17-zVlF6K.png
END:VEVENT
BEGIN:VEVENT
DTSTART;TZID=Europe/Amsterdam:20260506T210000
DTEND;TZID=Europe/Amsterdam:20260506T230000
DTSTAMP:20260421T144906
CREATED:20260416T153157Z
LAST-MODIFIED:20260420T154717Z
UID:10000168-1778101200-1778108400@hoenderenhop.nl
SUMMARY:Champions League Live
DESCRIPTION:Wat is er nou lekkerder dan sport kijken op groot scherm met een vers getapt biertje en bitterballen die zojuist uit het vet zijn gevist?\nJuist. Niks dus. (Tenzij je geen alcohol drinkt of vlees eet\, maar daar hebben wij ook weer oplossingen voor!)\nAlle grote sportevents op groot scherm bij de Hoender en Hop.
URL:https://hoenderenhop.nl/evenement/champions-league-live-10/
LOCATION:Hoender en hop\, Grote Markt\, Den Haag\, Zuid-Holland\, 2511 BG\, Netherlands
CATEGORIES:Sport
ATTACH;FMTTYPE=image/png:https://hoenderenhop.nl/wp-content/uploads/2025/09/Ontwerp-zonder-titel-17-zVlF6K.png
END:VEVENT
BEGIN:VEVENT
DTSTART;TZID=Europe/Amsterdam:20260512T190000
DTEND;TZID=Europe/Amsterdam:20260513T000000
DTSTAMP:20260421T144906
CREATED:20260211T130214Z
LAST-MODIFIED:20260420T154717Z
UID:10000072-1778612400-1778630400@hoenderenhop.nl
SUMMARY:Tabletop Tuesdays
DESCRIPTION:Tabletop Knights presents:\nTabletop Tuesdays @ Hoender en Hop!\n🎲\nVanaf 19:00 uur zijn de @tabletopknights_nl aanwezig en is iedereen welkom. Van de simpelste bordspellen tot de meest uitgebreide varianten\, één ding is zeker: er komt geen scherm aan te pas!\n🛡️\nVanaf nu elke tweede dinsdagavond van de maand!\nEn entree? He-le-maal gratis!
URL:https://hoenderenhop.nl/evenement/tabletop-tuesdays-10/
LOCATION:Hoender en hop\, Grote Markt\, Den Haag\, Zuid-Holland\, 2511 BG\, Netherlands
CATEGORIES:Games
ATTACH;FMTTYPE=image/png:https://hoenderenhop.nl/wp-content/uploads/2025/09/Ontwerp-zonder-titel-9-UuiXvx.png
END:VEVENT
BEGIN:VEVENT
DTSTART;TZID=Europe/Amsterdam:20260518T200000
DTEND;TZID=Europe/Amsterdam:20260518T200000
DTSTAMP:20260421T144906
CREATED:20260217T133214Z
LAST-MODIFIED:20260420T154717Z
UID:10000073-1779134400-1779134400@hoenderenhop.nl
SUMMARY:Pubquiz (NL)
DESCRIPTION:Dus jij denkt slimmer te zijn dan de rest? Kom bewijzen dan!
URL:https://hoenderenhop.nl/evenement/pubquiz-nl-10/
LOCATION:Hoender en hop\, Grote Markt\, Den Haag\, Zuid-Holland\, 2511 BG\, Netherlands
CATEGORIES:Games
ATTACH;FMTTYPE=image/png:https://hoenderenhop.nl/wp-content/uploads/2025/09/5-eKoVbM.png
END:VEVENT
BEGIN:VEVENT
DTSTART;TZID=Europe/Amsterdam:20260524T220000
DTEND;TZID=Europe/Amsterdam:20260524T220000
DTSTAMP:20260421T144906
CREATED:20260313T125702Z
LAST-MODIFIED:20260420T154717Z
UID:10000090-1779660000-1779660000@hoenderenhop.nl
SUMMARY:Formule 1 Live
DESCRIPTION:Wat is er nou lekkerder dan sport kijken op groot scherm met een vers getapt biertje en bitterballen die zojuist uit het vet zijn gevist?\nJuist. Niks dus. (Tenzij je geen alcohol drinkt of vlees eet\, maar daar hebben wij ook weer oplossingen voor!)\nAlle grote sportevents op groot scherm bij de Hoender en Hop.
URL:https://hoenderenhop.nl/evenement/formule-1-live-4/
LOCATION:Hoender en hop\, Grote Markt\, Den Haag\, Zuid-Holland\, 2511 BG\, Netherlands
CATEGORIES:Sport
ATTACH;FMTTYPE=image/png:https://hoenderenhop.nl/wp-content/uploads/2025/09/f1-hoenderenhop-qh8tpH.png
END:VEVENT
BEGIN:VEVENT
DTSTART;TZID=Europe/Amsterdam:20260530T180000
DTEND;TZID=Europe/Amsterdam:20260530T200000
DTSTAMP:20260421T144906
CREATED:20260313T125702Z
LAST-MODIFIED:20260420T154717Z
UID:10000091-1780164000-1780171200@hoenderenhop.nl
SUMMARY:Champions League Finale
DESCRIPTION:Wat is er nou lekkerder dan sport kijken op groot scherm met een vers getapt biertje en bitterballen die zojuist uit het vet zijn gevist?\nJuist. Niks dus. (Tenzij je geen alcohol drinkt of vlees eet\, maar daar hebben wij ook weer oplossingen voor!)\nAlle grote sportevents op groot scherm bij de Hoender en Hop.
URL:https://hoenderenhop.nl/evenement/champions-league-finale/
LOCATION:Hoender en hop\, Grote Markt\, Den Haag\, Zuid-Holland\, 2511 BG\, Netherlands
CATEGORIES:Sport
ATTACH;FMTTYPE=image/png:https://hoenderenhop.nl/wp-content/uploads/2025/09/Ontwerp-zonder-titel-17-zVlF6K.png
END:VEVENT
BEGIN:VEVENT
DTSTART;TZID=Europe/Amsterdam:20260601T200000
DTEND;TZID=Europe/Amsterdam:20260601T223000
DTSTAMP:20260421T144906
CREATED:20260303T123136Z
LAST-MODIFIED:20260420T154717Z
UID:10000076-1780344000-1780353000@hoenderenhop.nl
SUMMARY:Popquiz
DESCRIPTION:Dus jij weet alles van muziek\, Leo’tje Blokhuis?\nKom maar even laten zien dan! \nDé popquiz van de Hoender test jouw ultieme muziekkennis! \n\nElke eerste maandag van de maand\n8 muzikale rondes\nmaximaal 6 deelnemers per team\n€10\,- per team\n\nSchrijf jou en jouw team snel in via de link! \nMee-eten? Dat kan! Voor maar liefst €17\,50 p.p. kan je genieten van kip\, patat en appelmoes (of een vega burger)
URL:https://hoenderenhop.nl/evenement/popquiz-9/
LOCATION:Hoender en hop\, Grote Markt\, Den Haag\, Zuid-Holland\, 2511 BG\, Netherlands
CATEGORIES:Games
ATTACH;FMTTYPE=image/jpeg:https://hoenderenhop.nl/wp-content/uploads/2026/01/PubQuizz121823DSC00088-Enhanced-NR-46-wTJmn0.jpg
END:VEVENT
BEGIN:VEVENT
DTSTART;TZID=Europe/Amsterdam:20260605T180000
DTEND;TZID=Europe/Amsterdam:20260605T230000
DTSTAMP:20260421T144906
CREATED:20260313T125702Z
LAST-MODIFIED:20260420T154718Z
UID:10000092-1780682400-1780700400@hoenderenhop.nl
SUMMARY:WK Kwalificatie
DESCRIPTION:Wat is er nou lekkerder dan sport kijken op groot scherm met een vers getapt biertje en bitterballen die zojuist uit het vet zijn gevist?\nJuist. Niks dus. (Tenzij je geen alcohol drinkt of vlees eet\, maar daar hebben wij ook weer oplossingen voor!)\nAlle grote sportevents op groot scherm bij de Hoender en Hop.
URL:https://hoenderenhop.nl/evenement/wk-kwalificatie-3/
LOCATION:Hoender en hop\, Grote Markt\, Den Haag\, Zuid-Holland\, 2511 BG\, Netherlands
CATEGORIES:Sport
ATTACH;FMTTYPE=image/jpeg:https://hoenderenhop.nl/wp-content/uploads/2026/03/oranje-leeuwinnen-mXg7VH.jpg
END:VEVENT
BEGIN:VEVENT
DTSTART;TZID=Europe/Amsterdam:20260607T150000
DTEND;TZID=Europe/Amsterdam:20260607T180000
DTSTAMP:20260421T144906
CREATED:20260313T125702Z
LAST-MODIFIED:20260420T154718Z
UID:10000093-1780844400-1780855200@hoenderenhop.nl
SUMMARY:Formule 1 Live
DESCRIPTION:Wat is er nou lekkerder dan sport kijken op groot scherm met een vers getapt biertje en bitterballen die zojuist uit het vet zijn gevist?\nJuist. Niks dus. (Tenzij je geen alcohol drinkt of vlees eet\, maar daar hebben wij ook weer oplossingen voor!)\nAlle grote sportevents op groot scherm bij de Hoender en Hop.
URL:https://hoenderenhop.nl/evenement/formule-1-live-5/
LOCATION:Hoender en hop\, Grote Markt\, Den Haag\, Zuid-Holland\, 2511 BG\, Netherlands
CATEGORIES:Sport
ATTACH;FMTTYPE=image/png:https://hoenderenhop.nl/wp-content/uploads/2025/09/f1-hoenderenhop-qh8tpH.png
END:VEVENT
BEGIN:VEVENT
DTSTART;TZID=Europe/Amsterdam:20260609T190000
DTEND;TZID=Europe/Amsterdam:20260610T000000
DTSTAMP:20260421T144906
CREATED:20260311T125303Z
LAST-MODIFIED:20260420T154718Z
UID:10000077-1781031600-1781049600@hoenderenhop.nl
SUMMARY:Tabletop Tuesdays
DESCRIPTION:Tabletop Knights presents:\nTabletop Tuesdays @ Hoender en Hop!\n🎲\nVanaf 19:00 uur zijn de @tabletopknights_nl aanwezig en is iedereen welkom. Van de simpelste bordspellen tot de meest uitgebreide varianten\, één ding is zeker: er komt geen scherm aan te pas!\n🛡️\nVanaf nu elke tweede dinsdagavond van de maand!\nEn entree? He-le-maal gratis!
URL:https://hoenderenhop.nl/evenement/tabletop-tuesdays-11/
LOCATION:Hoender en hop\, Grote Markt\, Den Haag\, Zuid-Holland\, 2511 BG\, Netherlands
CATEGORIES:Games
ATTACH;FMTTYPE=image/png:https://hoenderenhop.nl/wp-content/uploads/2025/09/Ontwerp-zonder-titel-9-UuiXvx.png
END:VEVENT
BEGIN:VEVENT
DTSTART;TZID=Europe/Amsterdam:20260609T210000
DTEND;TZID=Europe/Amsterdam:20260609T230000
DTSTAMP:20260421T144906
CREATED:20260313T125702Z
LAST-MODIFIED:20260420T154718Z
UID:10000094-1781038800-1781046000@hoenderenhop.nl
SUMMARY:WK Kwalificatie
DESCRIPTION:Wat is er nou lekkerder dan sport kijken op groot scherm met een vers getapt biertje en bitterballen die zojuist uit het vet zijn gevist?\nJuist. Niks dus. (Tenzij je geen alcohol drinkt of vlees eet\, maar daar hebben wij ook weer oplossingen voor!)\nAlle grote sportevents op groot scherm bij de Hoender en Hop.
URL:https://hoenderenhop.nl/evenement/wk-kwalificatie-4/
LOCATION:Hoender en hop\, Grote Markt\, Den Haag\, Zuid-Holland\, 2511 BG\, Netherlands
CATEGORIES:Sport
ATTACH;FMTTYPE=image/jpeg:https://hoenderenhop.nl/wp-content/uploads/2026/03/oranje-leeuwinnen-mXg7VH.jpg
END:VEVENT
BEGIN:VEVENT
DTSTART;TZID=Europe/Amsterdam:20260611T210000
DTEND;TZID=Europe/Amsterdam:20260611T230000
DTSTAMP:20260421T144906
CREATED:20260313T125702Z
LAST-MODIFIED:20260420T154718Z
UID:10000095-1781211600-1781218800@hoenderenhop.nl
SUMMARY:WK Voetbal
DESCRIPTION:Wat is er nou lekkerder dan sport kijken op groot scherm met een vers getapt biertje en bitterballen die zojuist uit het vet zijn gevist?\nJuist. Niks dus. (Tenzij je geen alcohol drinkt of vlees eet\, maar daar hebben wij ook weer oplossingen voor!)\nAlle grote sportevents op groot scherm bij de Hoender en Hop. Hup Hoender Hup!
URL:https://hoenderenhop.nl/evenement/wk-voetbal/
LOCATION:Hoender en hop\, Grote Markt\, Den Haag\, Zuid-Holland\, 2511 BG\, Netherlands
CATEGORIES:Sport
ATTACH;FMTTYPE=image/jpeg:https://hoenderenhop.nl/wp-content/uploads/2026/03/wk-op-groot-scherm-eMybV8.jpg
END:VEVENT
BEGIN:VEVENT
DTSTART;TZID=Europe/Amsterdam:20260612T210000
DTEND;TZID=Europe/Amsterdam:20260612T230000
DTSTAMP:20260421T144906
CREATED:20260314T125726Z
LAST-MODIFIED:20260420T154718Z
UID:10000096-1781298000-1781305200@hoenderenhop.nl
SUMMARY:WK Voetbal
DESCRIPTION:Wat is er nou lekkerder dan sport kijken op groot scherm met een vers getapt biertje en bitterballen die zojuist uit het vet zijn gevist?\nJuist. Niks dus. (Tenzij je geen alcohol drinkt of vlees eet\, maar daar hebben wij ook weer oplossingen voor!)\nAlle grote sportevents op groot scherm bij de Hoender en Hop. Hup Hoender Hup!
URL:https://hoenderenhop.nl/evenement/wk-voetbal-2/
LOCATION:Hoender en hop\, Grote Markt\, Den Haag\, Zuid-Holland\, 2511 BG\, Netherlands
CATEGORIES:Sport
ATTACH;FMTTYPE=image/jpeg:https://hoenderenhop.nl/wp-content/uploads/2026/03/wk-op-groot-scherm-eMybV8.jpg
END:VEVENT
BEGIN:VEVENT
DTSTART;TZID=Europe/Amsterdam:20260613T210000
DTEND;TZID=Europe/Amsterdam:20260613T230000
DTSTAMP:20260421T144906
CREATED:20260315T130213Z
LAST-MODIFIED:20260420T154718Z
UID:10000097-1781384400-1781391600@hoenderenhop.nl
SUMMARY:WK Voetbal
DESCRIPTION:Wat is er nou lekkerder dan sport kijken op groot scherm met een vers getapt biertje en bitterballen die zojuist uit het vet zijn gevist?\nJuist. Niks dus. (Tenzij je geen alcohol drinkt of vlees eet\, maar daar hebben wij ook weer oplossingen voor!)\nAlle grote sportevents op groot scherm bij de Hoender en Hop. Hup Hoender Hup!
URL:https://hoenderenhop.nl/evenement/wk-voetbal-3/
LOCATION:Hoender en hop\, Grote Markt\, Den Haag\, Zuid-Holland\, 2511 BG\, Netherlands
CATEGORIES:Sport
ATTACH;FMTTYPE=image/jpeg:https://hoenderenhop.nl/wp-content/uploads/2026/03/wk-op-groot-scherm-eMybV8.jpg
END:VEVENT
BEGIN:VEVENT
DTSTART;TZID=Europe/Amsterdam:20260614T150000
DTEND;TZID=Europe/Amsterdam:20260614T180000
DTSTAMP:20260421T144906
CREATED:20260316T130210Z
LAST-MODIFIED:20260420T154718Z
UID:10000098-1781449200-1781460000@hoenderenhop.nl
SUMMARY:Formule 1 Live
DESCRIPTION:Wat is er nou lekkerder dan sport kijken op groot scherm met een vers getapt biertje en bitterballen die zojuist uit het vet zijn gevist?\nJuist. Niks dus. (Tenzij je geen alcohol drinkt of vlees eet\, maar daar hebben wij ook weer oplossingen voor!)\nAlle grote sportevents op groot scherm bij de Hoender en Hop.
URL:https://hoenderenhop.nl/evenement/formule-1-live-6/
LOCATION:Hoender en hop\, Grote Markt\, Den Haag\, Zuid-Holland\, 2511 BG\, Netherlands
CATEGORIES:Sport
ATTACH;FMTTYPE=image/png:https://hoenderenhop.nl/wp-content/uploads/2025/09/f1-hoenderenhop-qh8tpH.png
END:VEVENT
BEGIN:VEVENT
DTSTART;TZID=Europe/Amsterdam:20260614T190000
DTEND;TZID=Europe/Amsterdam:20260614T210000
DTSTAMP:20260421T144906
CREATED:20260316T130210Z
LAST-MODIFIED:20260420T154718Z
UID:10000099-1781463600-1781470800@hoenderenhop.nl
SUMMARY:WK Voetbal
DESCRIPTION:Wat is er nou lekkerder dan sport kijken op groot scherm met een vers getapt biertje en bitterballen die zojuist uit het vet zijn gevist?\nJuist. Niks dus. (Tenzij je geen alcohol drinkt of vlees eet\, maar daar hebben wij ook weer oplossingen voor!)\nAlle grote sportevents op groot scherm bij de Hoender en Hop. Hup Hoender Hup!
URL:https://hoenderenhop.nl/evenement/wk-voetbal-4/
LOCATION:Hoender en hop\, Grote Markt\, Den Haag\, Zuid-Holland\, 2511 BG\, Netherlands
CATEGORIES:Sport
ATTACH;FMTTYPE=image/jpeg:https://hoenderenhop.nl/wp-content/uploads/2026/03/wk-op-groot-scherm-eMybV8.jpg
END:VEVENT
BEGIN:VEVENT
DTSTART;TZID=Europe/Amsterdam:20260614T220000
DTEND;TZID=Europe/Amsterdam:20260614T230000
DTSTAMP:20260421T144906
CREATED:20260316T130210Z
LAST-MODIFIED:20260420T154718Z
UID:10000100-1781474400-1781478000@hoenderenhop.nl
SUMMARY:WK Voetbal
DESCRIPTION:Wat is er nou lekkerder dan sport kijken op groot scherm met een vers getapt biertje en bitterballen die zojuist uit het vet zijn gevist?\nJuist. Niks dus. (Tenzij je geen alcohol drinkt of vlees eet\, maar daar hebben wij ook weer oplossingen voor!)\nAlle grote sportevents op groot scherm bij de Hoender en Hop. Hup Hoender Hup!
URL:https://hoenderenhop.nl/evenement/wk-voetbal-5/
LOCATION:Hoender en hop\, Grote Markt\, Den Haag\, Zuid-Holland\, 2511 BG\, Netherlands
CATEGORIES:Sport
ATTACH;FMTTYPE=image/jpeg:https://hoenderenhop.nl/wp-content/uploads/2026/03/wk-op-groot-scherm-eMybV8.jpg
END:VEVENT
BEGIN:VEVENT
DTSTART;TZID=Europe/Amsterdam:20260615T180000
DTEND;TZID=Europe/Amsterdam:20260615T200000
DTSTAMP:20260421T144906
CREATED:20260317T130129Z
LAST-MODIFIED:20260420T154718Z
UID:10000101-1781546400-1781553600@hoenderenhop.nl
SUMMARY:WK Voetbal
DESCRIPTION:Wat is er nou lekkerder dan sport kijken op groot scherm met een vers getapt biertje en bitterballen die zojuist uit het vet zijn gevist?\nJuist. Niks dus. (Tenzij je geen alcohol drinkt of vlees eet\, maar daar hebben wij ook weer oplossingen voor!)\nAlle grote sportevents op groot scherm bij de Hoender en Hop. Hup Hoender Hup!
URL:https://hoenderenhop.nl/evenement/wk-voetbal-6/
LOCATION:Hoender en hop\, Grote Markt\, Den Haag\, Zuid-Holland\, 2511 BG\, Netherlands
CATEGORIES:Sport
ATTACH;FMTTYPE=image/jpeg:https://hoenderenhop.nl/wp-content/uploads/2026/03/wk-op-groot-scherm-eMybV8.jpg
END:VEVENT
BEGIN:VEVENT
DTSTART;TZID=Europe/Amsterdam:20260615T200000
DTEND;TZID=Europe/Amsterdam:20260615T200000
DTSTAMP:20260421T144906
CREATED:20260317T130129Z
LAST-MODIFIED:20260420T154718Z
UID:10000102-1781553600-1781553600@hoenderenhop.nl
SUMMARY:Pubquiz (NL)
DESCRIPTION:Dus jij denkt slimmer te zijn dan de rest? Kom bewijzen dan!
URL:https://hoenderenhop.nl/evenement/pubquiz-nl-11/
LOCATION:Hoender en hop\, Grote Markt\, Den Haag\, Zuid-Holland\, 2511 BG\, Netherlands
CATEGORIES:Games
ATTACH;FMTTYPE=image/png:https://hoenderenhop.nl/wp-content/uploads/2025/09/5-eKoVbM.png
END:VEVENT
BEGIN:VEVENT
DTSTART;TZID=Europe/Amsterdam:20260615T210000
DTEND;TZID=Europe/Amsterdam:20260615T230000
DTSTAMP:20260421T144906
CREATED:20260317T130129Z
LAST-MODIFIED:20260420T154718Z
UID:10000103-1781557200-1781564400@hoenderenhop.nl
SUMMARY:WK Voetbal
DESCRIPTION:Wat is er nou lekkerder dan sport kijken op groot scherm met een vers getapt biertje en bitterballen die zojuist uit het vet zijn gevist?\nJuist. Niks dus. (Tenzij je geen alcohol drinkt of vlees eet\, maar daar hebben wij ook weer oplossingen voor!)\nAlle grote sportevents op groot scherm bij de Hoender en Hop. Hup Hoender Hup!
URL:https://hoenderenhop.nl/evenement/wk-voetbal-7/
LOCATION:Hoender en hop\, Grote Markt\, Den Haag\, Zuid-Holland\, 2511 BG\, Netherlands
CATEGORIES:Sport
ATTACH;FMTTYPE=image/jpeg:https://hoenderenhop.nl/wp-content/uploads/2026/03/wk-op-groot-scherm-eMybV8.jpg
END:VEVENT
BEGIN:VEVENT
DTSTART;TZID=Europe/Amsterdam:20260616T000000
DTEND;TZID=Europe/Amsterdam:20260616T020000
DTSTAMP:20260421T144906
CREATED:20260317T130129Z
LAST-MODIFIED:20260420T154718Z
UID:10000104-1781568000-1781575200@hoenderenhop.nl
SUMMARY:WK Voetbal
DESCRIPTION:Wat is er nou lekkerder dan sport kijken op groot scherm met een vers getapt biertje en bitterballen die zojuist uit het vet zijn gevist?\nJuist. Niks dus. (Tenzij je geen alcohol drinkt of vlees eet\, maar daar hebben wij ook weer oplossingen voor!)\nAlle grote sportevents op groot scherm bij de Hoender en Hop. Hup Hoender Hup!
URL:https://hoenderenhop.nl/evenement/wk-voetbal-8/
LOCATION:Hoender en hop\, Grote Markt\, Den Haag\, Zuid-Holland\, 2511 BG\, Netherlands
CATEGORIES:Sport
ATTACH;FMTTYPE=image/jpeg:https://hoenderenhop.nl/wp-content/uploads/2026/03/wk-op-groot-scherm-eMybV8.jpg
END:VEVENT
BEGIN:VEVENT
DTSTART;TZID=Europe/Amsterdam:20260616T210000
DTEND;TZID=Europe/Amsterdam:20260616T230000
DTSTAMP:20260421T144906
CREATED:20260318T130142Z
LAST-MODIFIED:20260420T154718Z
UID:10000105-1781643600-1781650800@hoenderenhop.nl
SUMMARY:WK Voetbal
DESCRIPTION:Wat is er nou lekkerder dan sport kijken op groot scherm met een vers getapt biertje en bitterballen die zojuist uit het vet zijn gevist?\nJuist. Niks dus. (Tenzij je geen alcohol drinkt of vlees eet\, maar daar hebben wij ook weer oplossingen voor!)\nAlle grote sportevents op groot scherm bij de Hoender en Hop. Hup Hoender Hup!
URL:https://hoenderenhop.nl/evenement/wk-voetbal-9/
LOCATION:Hoender en hop\, Grote Markt\, Den Haag\, Zuid-Holland\, 2511 BG\, Netherlands
CATEGORIES:Sport
ATTACH;FMTTYPE=image/jpeg:https://hoenderenhop.nl/wp-content/uploads/2026/03/wk-op-groot-scherm-eMybV8.jpg
END:VEVENT
BEGIN:VEVENT
DTSTART;TZID=Europe/Amsterdam:20260617T000000
DTEND;TZID=Europe/Amsterdam:20260617T020000
DTSTAMP:20260421T144906
CREATED:20260318T130142Z
LAST-MODIFIED:20260420T154718Z
UID:10000106-1781654400-1781661600@hoenderenhop.nl
SUMMARY:WK Voetbal
DESCRIPTION:Wat is er nou lekkerder dan sport kijken op groot scherm met een vers getapt biertje en bitterballen die zojuist uit het vet zijn gevist?\nJuist. Niks dus. (Tenzij je geen alcohol drinkt of vlees eet\, maar daar hebben wij ook weer oplossingen voor!)\nAlle grote sportevents op groot scherm bij de Hoender en Hop. Hup Hoender Hup!
URL:https://hoenderenhop.nl/evenement/wk-voetbal-10/
LOCATION:Hoender en hop\, Grote Markt\, Den Haag\, Zuid-Holland\, 2511 BG\, Netherlands
CATEGORIES:Sport
ATTACH;FMTTYPE=image/jpeg:https://hoenderenhop.nl/wp-content/uploads/2026/03/wk-op-groot-scherm-eMybV8.jpg
END:VEVENT
BEGIN:VEVENT
DTSTART;TZID=Europe/Amsterdam:20260617T190000
DTEND;TZID=Europe/Amsterdam:20260617T210000
DTSTAMP:20260421T144906
CREATED:20260319T130214Z
LAST-MODIFIED:20260420T154718Z
UID:10000109-1781722800-1781730000@hoenderenhop.nl
SUMMARY:WK Voetbal
DESCRIPTION:Wat is er nou lekkerder dan sport kijken op groot scherm met een vers getapt biertje en bitterballen die zojuist uit het vet zijn gevist?\nJuist. Niks dus. (Tenzij je geen alcohol drinkt of vlees eet\, maar daar hebben wij ook weer oplossingen voor!)\nAlle grote sportevents op groot scherm bij de Hoender en Hop. Hup Hoender Hup!
URL:https://hoenderenhop.nl/evenement/wk-voetbal-11/
LOCATION:Hoender en hop\, Grote Markt\, Den Haag\, Zuid-Holland\, 2511 BG\, Netherlands
CATEGORIES:Sport
ATTACH;FMTTYPE=image/jpeg:https://hoenderenhop.nl/wp-content/uploads/2026/03/wk-op-groot-scherm-eMybV8.jpg
END:VEVENT
BEGIN:VEVENT
DTSTART;TZID=Europe/Amsterdam:20260617T220000
DTEND;TZID=Europe/Amsterdam:20260617T220000
DTSTAMP:20260421T144906
CREATED:20260319T130214Z
LAST-MODIFIED:20260420T154718Z
UID:10000110-1781733600-1781733600@hoenderenhop.nl
SUMMARY:WK Voetbal
DESCRIPTION:Wat is er nou lekkerder dan sport kijken op groot scherm met een vers getapt biertje en bitterballen die zojuist uit het vet zijn gevist?\nJuist. Niks dus. (Tenzij je geen alcohol drinkt of vlees eet\, maar daar hebben wij ook weer oplossingen voor!)\nAlle grote sportevents op groot scherm bij de Hoender en Hop. Hup Hoender Hup!
URL:https://hoenderenhop.nl/evenement/wk-voetbal-12/
LOCATION:Hoender en hop\, Grote Markt\, Den Haag\, Zuid-Holland\, 2511 BG\, Netherlands
CATEGORIES:Sport
ATTACH;FMTTYPE=image/jpeg:https://hoenderenhop.nl/wp-content/uploads/2026/03/wk-op-groot-scherm-eMybV8.jpg
END:VEVENT
END:VCALENDAR